BEGIN:VCALENDAR
VERSION:2.0
PRODID:spatie/icalendar-generator
DESCRIPTION:Veranstaltungen von Schelm-Net
X-WR-CALDESC:Veranstaltungen von Schelm-Net
REFRESH-INTERVAL;VALUE=DURATION:PT1440M
X-PUBLISHED-TTL:PT1440M
BEGIN:VTIMEZONE
TZID:Europe/Berlin
BEGIN:STANDARD
DTSTART:20251026T030000Z
TZOFFSETFROM:+0200
TZOFFSETTO:+0100
END:STANDARD
BEGIN:DAYLIGHT
DTSTART:20260329T020000Z
TZOFFSETFROM:+0100
TZOFFSETTO:+0200
END:DAYLIGHT
BEGIN:STANDARD
DTSTART:20261025T030000Z
TZOFFSETFROM:+0200
TZOFFSETTO:+0100
END:STANDARD
END:VTIMEZONE
BEGIN:VTIMEZONE
TZID:UTC
BEGIN:STANDARD
DTSTART:20250725T083217Z
TZOFFSETFROM:+0000
TZOFFSETTO:+0000
END:STANDARD
END:VTIMEZONE
BEGIN:VEVENT
UID:143-4
DTSTAMP:20260421T083217Z
SUMMARY:Wochenmarkt Schöppenstedt
LOCATION:Marktplatz Schöppenstedt Markt 3  Schöppenstedt  38170
ORGANIZER;CN=janto:MAILTO:jtb@jtbnet.de
RRULE:FREQ=WEEKLY;UNTIL=20300928T000000Z
DTSTART;TZID=Europe/Berlin:20260424T080000
DTEND;TZID=Europe/Berlin:20260424T140000
X-ALT-DESC;FMTTYPE=TEXT/HTML:
CATEGORIES:Wiederkehrendes
URL;VALUE=URI:https://schelm-net.de/mc-locations/eitzum/?mc_id=143
METHOD:PUBLISH
END:VEVENT
END:VCALENDAR